BEGIN:VCALENDAR
VERSION:2.0
METHOD:PUBLISH
PRODID:-//Tendenci - The Open Source AMS for Associations//Tendenci Codeba
 se MIMEDIR//EN
BEGIN:VEVENT
DESCRIPTION:--- This iCal file does *NOT* confirm registration.\nEvent det
 ails subject to change. ---\nhttps://www.jitousa.org/events/189/\n\nEvent 
 Title: From Policy to Pages: Leadership, Investments & Global Narratives\n
 Start Date / Time: May 02, 2026 19:00 PM America/Chicago\nLocation: Cosmos
  Granite & Marble\nSpeaker: Om Prakash Sakhlecha, Trisha Sakhlecha\nGoogle
 \nhttp://maps.google.com/maps?q=2244+Luna+Rd,+Suite+#100,Carrollton,TX,750
 06\n\nForecast\nhttp://www.weather.com/weather/monthly/75006\n\nThe JITO U
 SA, Dallas Chapter is delighted to host an exclusive session featuring Om 
 Prakash Sakhlecha, Hon&rsquo\;ble Member of the Madhya Pradesh Legislative
  Assembly, and Trisha Sakhlecha, internationally bestselling author and fo
 rmer cultural diplomat.\nMr. Sakhlecha, a distinguished public representat
 ive and JITO member currently visiting Dallas, will share his insights on 
 leadership, governance, and emerging investment opportunities. Ms. Sakhlec
 ha will speak on literature and contemporary global affairs, drawing from 
 her experience as a globally published author and cultural diplomat.\nThis
  event will be conducted in person, pease note that RSVP is required for a
 ll attending the event in person.\n\n--- This iCal file does *NOT* confirm
  registration.Event details subject to change. ---\n\n--- By Tendenci - Th
 e Open Source AMS for Associations ---\n
UID:uid189@jitousa.org
SUMMARY:From Policy to Pages: Leadership, Investments & Global Narratives
DTSTART:20260503T000000Z
DTEND:20260503T013000Z
CLASS:PUBLIC
PRIORITY:5
DTSTAMP:20260424T102941Z
TRANSP:OPAQUE
SEQUENCE:0
LOCATION:Cosmos Granite & Marble
X-ALT-DESC;FMTTYPE=text/html:<div>--- This iCal file does *NOT* confirm re
 gistration.Event details subject to change. ---</div><h1>Event Title: From
  Policy to Pages: Leadership, Investments & Global Narratives</h1><div>htt
 ps://www.jitousa.org/events/189/</div><br /><div>When: May 02, 2026 19:00 
 PM America/Chicago</div><div>Speaker: Om Prakash Sakhlecha, Trisha Sakhlec
 ha</div><br />Cosmos Granite & Marble<br />2244 Luna Rd, Suite #100<br />C
 arrollton, TX 75006<br /><div>http://maps.google.com/maps?q=2244+Luna+Rd,+
 Suite+#100,Carrollton,TX,75006</div><br /><div>Forecast: http://www.weathe
 r.com/weather/monthly/75006</div><br /><br /><div><p class="isSelectedEnd"
 >The JITO USA, Dallas Chapter is delighted to host an exclusive session fe
 aturing Om Prakash Sakhlecha, Hon&rsquo\;ble Member of the Madhya Pradesh 
 Legislative Assembly, and Trisha Sakhlecha, internationally bestselling au
 thor and former cultural diplomat.</p> <p>Mr. Sakhlecha, a distinguished p
 ublic representative and JITO member currently visiting Dallas, will share
  his insights on leadership, governance, and emerging investment opportuni
 ties. Ms. Sakhlecha will speak on literature and contemporary global affai
 rs, drawing from her experience as a globally published author and cultura
 l diplomat.</p> <p>This event will be conducted in person, pease note that
  RSVP is required for all attending the event in person.</p></div><div>---
  This iCal file does *NOT* confirm registration.Event details subject to c
 hange. ---</div><div>--- Tendenci&reg\; Software by <a href="https://www.t
 endenci.com">tendenci.com</a> - The Open Source AMS for Associations ---</
 div>
BEGIN:VALARM
TRIGGER:-PT30M
ACTION:DISPLAY
DESCRIPTION:Reminder
END:VALARM
END:VEVENT
END:VCALENDAR
